BEGIN:VCALENDAR
VERSION:2.0
PRODID:-//WohnKulturGut - ECPv6.15.18//NONSGML v1.0//EN
CALSCALE:GREGORIAN
METHOD:PUBLISH
X-ORIGINAL-URL:https://wohnkulturgut.de
X-WR-CALDESC:Veranstaltungen für WohnKulturGut
REFRESH-INTERVAL;VALUE=DURATION:PT1H
X-Robots-Tag:noindex
X-PUBLISHED-TTL:PT1H
BEGIN:VTIMEZONE
TZID:Europe/Berlin
BEGIN:DAYLIGHT
TZOFFSETFROM:+0100
TZOFFSETTO:+0200
TZNAME:CEST
DTSTART:20230326T010000
END:DAYLIGHT
BEGIN:STANDARD
TZOFFSETFROM:+0200
TZOFFSETTO:+0100
TZNAME:CET
DTSTART:20231029T010000
END:STANDARD
BEGIN:DAYLIGHT
TZOFFSETFROM:+0100
TZOFFSETTO:+0200
TZNAME:CEST
DTSTART:20240331T010000
END:DAYLIGHT
BEGIN:STANDARD
TZOFFSETFROM:+0200
TZOFFSETTO:+0100
TZNAME:CET
DTSTART:20241027T010000
END:STANDARD
BEGIN:DAYLIGHT
TZOFFSETFROM:+0100
TZOFFSETTO:+0200
TZNAME:CEST
DTSTART:20250330T010000
END:DAYLIGHT
BEGIN:STANDARD
TZOFFSETFROM:+0200
TZOFFSETTO:+0100
TZNAME:CET
DTSTART:20251026T010000
END:STANDARD
END:VTIMEZONE
BEGIN:VEVENT
DTSTART;TZID=Europe/Berlin:20240519T100000
DTEND;TZID=Europe/Berlin:20240520T180000
DTSTAMP:20260419T204232
CREATED:20231212T034516Z
LAST-MODIFIED:20240514T074553Z
UID:1459-1716112800-1716228000@wohnkulturgut.de
SUMMARY:Kunst- und Handwerker Markt 2024
DESCRIPTION:Bald ist es wieder so weit\, \nwir laden Sie am 19. und 20. Mai zum Kunst- und Handwerkermarkt nach Gostewitz ein. \nDieses Jahr erwarten Sie unter anderem Matthieu Pallas & Jean-Yves Dousset als Duo Flic-Flic. Die zwei waren 2012 zum französischen Markt schon einmal in Gostewitz zu Gast und bringen natürlich auch dieses Jahr ein großes Stück Frankreich mit zu uns in die sächsische Provinz. Außerdem spielt am Pfingstsonntag Hans-Richard Ludewig in der fast fertiggestellten Veranstaltungsscheune am Flügel und Puppen- und Schauspieler Falk Pieter Ulke lädt zum Puppenspiel ein. Am Pfingstmontag spielt Micha Winkler mit seiner Band JazzLust auf und Jan Mixsa begeistert Groß und Klein mit seinem selbstgebauten Blechpuppenensemble. \nKutschfahrten entlang der Via Regia finden wieder statt und auch Märchenkutschen für die Kleinen sind wieder unterwegs. \nEin immerwährendes Ziel unserer Märkte auf dem WohnKulturGut Gostewitz ist es\, den Menschen wieder die Wertigkeit des Hand- und Hiergemachten zugänglich zu machen. Durch Vorführungen und Mitmachangebote präsentieren die Künstler und Handwerker ihre Fertigkeiten\, was bei den Besuchern eine Wertschätzung für die angebotenen Produkte und Leistungen wachruft. Mit Puppenspiel\, handgemachter Musik\, Theater\, Kutschfahrten und Mitmachangeboten ist der Kunst- und Handwerkermarkt attraktiv für die ganze Familie. Während die Kinder lachend vor der Bühne sitzen\, können die Eltern in Ruhe durch den Garten\, über den Hof oder durch die Galerie schlendern und einmalige\, handgemachte Produkte bestaunen und kaufen. \nDer Kunst- und Handwerkermarkt ist eine Kooperation vom Kulturförderverein Riesa e.V.\, dem Handels-\, Gewerbe- und Verkehrsverein Riesa e.V. und dem WohnKulturGut Gostewitz. \nWir freuen uns auf Ihren Besuch \nPfingstsonntag 19. Mai 2024\nGanztägig\nMatthieu Pallas und Maurice Duval »französische Musette & Chansonmusik«\nBogenschießen und Streitbalken im Garten\nKinderschminken\nKinderKuschelEcke unterm Baumhaus \n10 Uhr Marktbeginn\n11 Uhr Hans-Richard Ludewig am Piano (Bühne)\n11 Uhr Kutschfahrt auf den Spuren der Via Regia\n12 Uhr »Hans im Glück« Puppenspiel mit Falk-Pieter Ulke (Bühne)\n12 Uhr Kutschfahrt auf den Spuren der Via Regia\n13 Uhr Hans-Richard Ludewig am Piano (Bühne)\n13 Uhr Kutschfahrt auf den Spuren der Via Regia\n14 Uhr Hans-Richard Ludewig am Piano (Bühne)\n14 Uhr Märchenkutsche\n15 UhrMatthieu Pallas und Maurice Duval (Bühne)\n15 Uhr Märchenkutsche\n16 Uhr »Hans im Glück« Puppenspiel mit Falk-Pieter Ulke (Bühne)\n16 Uhr Kutschfahrt auf den Spuren der Via Regia\n17 Uhr Kutschfahrt auf den Spuren der Via Regia\n18 Uhr Matthieu Pallas und Maurice Duval (Bühne)\n18 Uhr letzte Kutschfahrt des Tages\n19 Uhr Feier Eintritt ab Marktende = Markttratsch \nPfingstmontag 20. Mai 2024\nGanztägig\nMatthieu Pallas und Maurice Duval »französische Musette & Chansonmusik«\n»JazzLust« mit Sie Krause\, Micha Winkler und André Schubert\nBogenschießen und Streitbalken im Garten\nKinderschminken\nKinderKuschelEcke unterm Baumhaus \n10 Uhr Marktbeginn\n11 Uhr Micha Winkler mit Band »JazzLust« (Bühne)\n11 Uhr Kutschfahrt auf den Spuren der Via Regia\n12 Uhr Puppenspiel mit Jan Mixsa (Bühne)\n12 Uhr Kutschfahrt auf den Spuren der Via Regia\n13 Uhr Matthieu Pallas und Maurice Duval (Bühne)\n13 Uhr Kutschfahrt auf den Spuren der Via Regia\n13:45 Uhr Spaziergang zur Ackerführung der Solawi »Baum.Frucht.Gemüse« nach Gostewitz Nickritz\n14 Uhr Micha Winkler mit Band »JazzLust« (Bühne)\n14 Uhr Märchenkutsche\n15 Uhr Matthieu Pallas und Maurice Duval (Bühne)\n15 Uhr Märchenkutsche\n16 Uhr Puppenspiel mit Jan Mixsa (Bühne)\n16 Uhr Kutschfahrt auf den Spuren der Via Regia\n17 Uhr Micha Winkler mit Band JazzLust (Bühne)\n17 Uhr Kutschfahrt auf den Spuren der Via Regia\n18 Uhr Marktende
URL:https://wohnkulturgut.de/event/kunst-und-handwerker-markt-2024/
CATEGORIES:Markt
ATTACH;FMTTYPE=image/jpeg:https://wohnkulturgut.de/wp-content/uploads/2023/12/khm-2024-2.jpg
END:VEVENT
END:VCALENDAR